BEGIN:VCALENDAR
PRODID:-//Trail Blazer//trailblz.com 1.0//EN
VERSION:2.0
CALSCALE:GREGORIAN
METHOD:PUBLISH
X-WR-TIMEZONE:Eastern Standard Time
X-LIC-LOCATION:Eastern Standard Time
X-MS-OLK-WKHRDAYS:MO,TU,WE,TH,FR
BEGIN:VTIMEZONE
X-DEBUG-RAW-Offset:-5
TZID:Eastern Standard Time
X-LIC-LOCATION:Eastern Standard Time
BEGIN:DAYLIGHT
TZOFFSETFROM:-0500
TZOFFSETTO:-0400
TZNAME:Eastern Standard Time
DTSTART:20260308T020000Z
RRULE:FREQ=YEARLY;BYMONTH=3;BYDAY=2SU
END:DAYLIGHT
BEGIN:STANDARD
TZOFFSETFROM:-0400
TZOFFSETTO:-0500
TZNAME:Eastern Standard Time
DTSTART:20261101T020000Z
RRULE:FREQ=YEARLY;BYMONTH=11;BYDAY=1SU
END:STANDARD
END:VTIMEZONE
BEGIN:VEVENT
URL:
ORGANIZER:MAILTO:
DTSTART:20260816T130000Z
DTEND:20260816T200000Z
SUMMARY:4th Annual Crèche FORE! THE KIDS Golf Tournament
CATEGORIES:event
DESCRIPTION:Welcome to the 4th Annual Crèche FORE! THE KIDS Golf Tournament Registration Begins at 8:00 AM Sign Ups (Shotgun start with a 4-Person Scramble Scoring) 9:00 AM $90 Per Person / $360 Per Foursome Price includes greens fee, cart, hot dogs and beverage at the turn, cash bar, and grab 'n go sandwich meal at end. Additional opportunities: 50/50 raffles, skins, mulligans, door prizes, gift raffle baskets, on course challenges and putting contest! Purchases may be made at the door or contact Meg as some may be available for advance purchasing. **No reservations are official until entry fee and pre-registration is completed and paid in full by Monday, August 3, 2026. ** Registration fees /other fees are non-refundable. Contact Meg Pickard at megapickard@gmail.com if you have any questions. Crèche, Inc. is a 501(c)(3) non-profit organization, Please share this event with your friends on social media!
LOCATION:4731 W. Lake Road Chautauqua,  NY 14722
END:VEVENT
END:VCALENDAR
