BEGIN:VCALENDAR
PRODID:-//Trail Blazer//trailblz.com 1.0//EN
VERSION:2.0
CALSCALE:GREGORIAN
METHOD:PUBLISH
X-WR-TIMEZONE:Mountain Standard Time
X-LIC-LOCATION:Mountain Standard Time
X-MS-OLK-WKHRDAYS:MO,TU,WE,TH,FR
BEGIN:VTIMEZONE
X-DEBUG-RAW-Offset:-7
TZID:Mountain Standard Time
X-LIC-LOCATION:Mountain Standard Time
BEGIN:DAYLIGHT
TZOFFSETFROM:-0700
TZOFFSETTO:-0600
TZNAME:Mountain Standard Time
DTSTART:20260308T020000Z
RRULE:FREQ=YEARLY;BYMONTH=3;BYDAY=2SU
END:DAYLIGHT
BEGIN:STANDARD
TZOFFSETFROM:-0600
TZOFFSETTO:-0700
TZNAME:Mountain Standard Time
DTSTART:20261101T020000Z
RRULE:FREQ=YEARLY;BYMONTH=11;BYDAY=1SU
END:STANDARD
END:VTIMEZONE
BEGIN:VEVENT
URL:
ORGANIZER:MAILTO:
DTSTART:20260426T003000Z
DTEND:20260426T050000Z
SUMMARY:Moon Over Mile High: MVL's 2026 Spring Soiree
CATEGORIES:event
DESCRIPTION:Spend the evening under the night sky at this year’s Spring Soirée, Moon Over Mile High: Casino for a Cause. This annual fundraising event, hosted by the Denver Bar Association, benefits Metro Volunteer Lawyers (MVL). This cannot miss evening will feature a live auction followed by a casino night, all in support of access to justice. Thank you. Cannot make the event? Consider supporting Metro Volunteer Lawyers with a donation using the link below: https://www.denbar.org/Members/Volunteer-Opportunities/Metro-Volunteer-Lawyers/Donate-to-Metro-Volunteer-Lawyers 
LOCATION:2000 16th Street Mall Denver,  CO 80202
END:VEVENT
END:VCALENDAR
