BEGIN:VCALENDAR
PRODID:-//Trail Blazer//trailblz.com 1.0//EN
VERSION:2.0
CALSCALE:GREGORIAN
METHOD:PUBLISH
X-WR-TIMEZONE:Central Standard Time
X-LIC-LOCATION:Central Standard Time
X-MS-OLK-WKHRDAYS:MO,TU,WE,TH,FR
BEGIN:VTIMEZONE
X-DEBUG-RAW-Offset:-6
TZID:Central Standard Time
X-LIC-LOCATION:Central Standard Time
BEGIN:DAYLIGHT
TZOFFSETFROM:-0600
TZOFFSETTO:-0500
TZNAME:Central Standard Time
DTSTART:20260308T020000Z
RRULE:FREQ=YEARLY;BYMONTH=3;BYDAY=2SU
END:DAYLIGHT
BEGIN:STANDARD
TZOFFSETFROM:-0500
TZOFFSETTO:-0600
TZNAME:Central Standard Time
DTSTART:20261101T020000Z
RRULE:FREQ=YEARLY;BYMONTH=11;BYDAY=1SU
END:STANDARD
END:VTIMEZONE
BEGIN:VEVENT
URL:
ORGANIZER:MAILTO:
DTSTART:20260502T190000Z
DTEND:20260502T210000Z
SUMMARY:Flower Pots for Mom
CATEGORIES:event
DESCRIPTION:FLOWER POTS FOR MOM! ALL AGES WELCOME - AGES 8 AND UNDER MUST BE ACCOMPANIED BY AN ADULT. Preregistration is required. Registration ends at 5PM on May 1st. Join Miss Jess in glazing a fun 3" terracotta flower pot. A super fun and personal gift for Mother's Day! You'll also get a little wildflower seed packet to accompany the pot. Pots will be fired in the kiln and ready in plenty of time for Mothers Day! $25 for not-yet-members. JMPS members please use Promo Code MEMBER for 20% OFF! **Classes are nonrefundable unless for an emergency and cancelled before the class begins. In this case, it will be decided on a case-by-case basis by the board of directors. There will be a $5 processing fee deducted from all refunds for classes paid for online.
LOCATION:621 1st Avenue W Williston,  ND 58801
END:VEVENT
END:VCALENDAR
