BEGIN:VCALENDAR
PRODID:-//Trail Blazer//trailblz.com 1.0//EN
VERSION:2.0
CALSCALE:GREGORIAN
METHOD:PUBLISH
X-WR-TIMEZONE:Central Standard Time
X-LIC-LOCATION:Central Standard Time
X-MS-OLK-WKHRDAYS:MO,TU,WE,TH,FR
BEGIN:VTIMEZONE
X-DEBUG-RAW-Offset:-6
TZID:Central Standard Time
X-LIC-LOCATION:Central Standard Time
BEGIN:DAYLIGHT
TZOFFSETFROM:-0600
TZOFFSETTO:-0500
TZNAME:Central Standard Time
DTSTART:20260308T020000Z
RRULE:FREQ=YEARLY;BYMONTH=3;BYDAY=2SU
END:DAYLIGHT
BEGIN:STANDARD
TZOFFSETFROM:-0500
TZOFFSETTO:-0600
TZNAME:Central Standard Time
DTSTART:20261101T020000Z
RRULE:FREQ=YEARLY;BYMONTH=11;BYDAY=1SU
END:STANDARD
END:VTIMEZONE
BEGIN:VEVENT
URL:
ORGANIZER:MAILTO:
DTSTART:20260606T160000Z
DTEND:20260509T180000Z
SUMMARY:Polymer Clay Jewelry
CATEGORIES:event
DESCRIPTION:POLYMER CLAY JEWELRY All Ages Welcome: AGES 8 AND UNDER MUST BE ACCOMPANIED BY AN ADULT. Preregistration is required. Registration ends at 5PM on May 8. NO EXCEPTIONS. Join Miss Emily to create some fun jewelry pieces! These will be made, painted, and ready to take with you at the end of class. Class includes 3 pieces of jewelry. $25 for not-yet-members. JMPS members please use Promo Code MEMBER for 20% OFF! **Classes are nonrefundable unless for an emergency and cancelled before the class begins. In this case, it will be decided on a case-by-case basis by the board of directors. There will be a $5 processing fee deducted from all refunds for classes paid for online.
LOCATION:621 1st Avenue W Williston,  ND 58801
END:VEVENT
END:VCALENDAR
