BEGIN:VCALENDAR
PRODID:-//Trail Blazer//trailblz.com 1.0//EN
VERSION:2.0
CALSCALE:GREGORIAN
METHOD:PUBLISH
X-WR-TIMEZONE:Central Standard Time
X-LIC-LOCATION:Central Standard Time
X-MS-OLK-WKHRDAYS:MO,TU,WE,TH,FR
BEGIN:VTIMEZONE
X-DEBUG-RAW-Offset:-6
TZID:Central Standard Time
X-LIC-LOCATION:Central Standard Time
BEGIN:DAYLIGHT
TZOFFSETFROM:-0600
TZOFFSETTO:-0500
TZNAME:Central Standard Time
DTSTART:20260308T020000Z
RRULE:FREQ=YEARLY;BYMONTH=3;BYDAY=2SU
END:DAYLIGHT
BEGIN:STANDARD
TZOFFSETFROM:-0500
TZOFFSETTO:-0600
TZNAME:Central Standard Time
DTSTART:20261101T020000Z
RRULE:FREQ=YEARLY;BYMONTH=11;BYDAY=1SU
END:STANDARD
END:VTIMEZONE
BEGIN:VEVENT
URL:
ORGANIZER:MAILTO:
DTSTART:20260507T210000Z
DTEND:20260528T220000Z
SUMMARY:Makers May
CATEGORIES:event
DESCRIPTION:MAKERS MAY Grades K-6 Preregistration is required. REGISTRATION ENDS AT 3PM THE DAY OF CLASS. Thursday May 7, 4-5:30 PM: STRETCHY SCULPTURES Artists will learn about form and shape and create their very own sculpture with an unlikely sculpting material, dance tights and wire! Wednesday, May 13, 4-5 PM: COLLAGE CREATIONS Artists will learn how to harvest images from magazines and compose a collage. Thursday, May 21, 4-5 PM: MONOPRINTING MADNESS Artists will learn two different forms of mono printing! One using a plastic surface to make a reusable print plate, and one using foam print plates to carve out an image that can be printed over and over. Thursday, May 28, 4-5:30 PM: BATIK BONANZA Artists will learn the textile art of creating a batik fabric with a glue resist. Register for single classes or the entire series! JMPS members please use Promo Code MEMBER for 20% OFF! **Classes are nonrefundable unless for an emergency and cancelled before the class begins. In this case, it will be decided on a case-by-case basis by the board of directors. There will be a $5 processing fee deducted from all refunds for classes paid for online.
LOCATION:621 1st Avenue W Williston,  ND 58801
END:VEVENT
END:VCALENDAR
