BEGIN:VCALENDAR
PRODID:-//Trail Blazer//trailblz.com 1.0//EN
VERSION:2.0
CALSCALE:GREGORIAN
METHOD:PUBLISH
X-WR-TIMEZONE:US Mountain Time
X-LIC-LOCATION:US Mountain Time
X-MS-OLK-WKHRDAYS:MO,TU,WE,TH,FR
BEGIN:VTIMEZONE
X-DEBUG-RAW-Offset:-7
TZID:US Mountain Time
X-LIC-LOCATION:US Mountain Time
BEGIN:DAYLIGHT
TZOFFSETFROM:-0700
TZOFFSETTO:-0600
TZNAME:US Mountain Time
DTSTART:20260308T020000Z
RRULE:FREQ=YEARLY;BYMONTH=3;BYDAY=2SU
END:DAYLIGHT
BEGIN:STANDARD
TZOFFSETFROM:-0600
TZOFFSETTO:-0700
TZNAME:US Mountain Time
DTSTART:20261101T020000Z
RRULE:FREQ=YEARLY;BYMONTH=11;BYDAY=1SU
END:STANDARD
END:VTIMEZONE
BEGIN:VEVENT
URL:
ORGANIZER:MAILTO:
DTSTART:20260318T021200Z
DTEND:20261114T024200Z
SUMMARY:Season Tickets 2026-27
CATEGORIES:event
DESCRIPTION:Symphonic Kaleidoscope Season Tickets 2026-27 Your Season Tickets will be available for pick up at the Will Call Desk at St. Andrews Church 7575 N Paseo Del Norte Tucson, AZ 85704.
LOCATION:7575 N Paseo Del Norte Tucson,  AZ 85704
END:VEVENT
END:VCALENDAR
