BEGIN:VCALENDAR
PRODID:-//Trail Blazer//trailblz.com 1.0//EN
VERSION:2.0
CALSCALE:GREGORIAN
METHOD:PUBLISH
X-WR-TIMEZONE:US Mountain Time
X-LIC-LOCATION:US Mountain Time
X-MS-OLK-WKHRDAYS:MO,TU,WE,TH,FR
BEGIN:VTIMEZONE
X-DEBUG-RAW-Offset:-7
TZID:US Mountain Time
X-LIC-LOCATION:US Mountain Time
BEGIN:DAYLIGHT
TZOFFSETFROM:-0700
TZOFFSETTO:-0600
TZNAME:US Mountain Time
DTSTART:20260308T020000Z
RRULE:FREQ=YEARLY;BYMONTH=3;BYDAY=2SU
END:DAYLIGHT
BEGIN:STANDARD
TZOFFSETFROM:-0600
TZOFFSETTO:-0700
TZNAME:US Mountain Time
DTSTART:20261101T020000Z
RRULE:FREQ=YEARLY;BYMONTH=11;BYDAY=1SU
END:STANDARD
END:VTIMEZONE
BEGIN:VEVENT
URL:
ORGANIZER:MAILTO:
DTSTART:20270307T220000Z
DTEND:20270308T000000Z
SUMMARY:From Nordic Fire To Eternal Light
CATEGORIES:event
DESCRIPTION:SYMPHONIC KALEIDOSCOPE From Nordic Fire To Eternal Light - March 7, 2027 3:00 PM Your tickets will be available for you at the WILL CALL DESK at St. Andrew's church the day of the concert.
LOCATION:7575 N. Paseo Del Norte Tucson,  AZ 85704
END:VEVENT
END:VCALENDAR
