BEGIN:VCALENDAR
PRODID:-//Trail Blazer//trailblz.com 1.0//EN
VERSION:2.0
CALSCALE:GREGORIAN
METHOD:PUBLISH
X-WR-TIMEZONE:Eastern Time
X-LIC-LOCATION:Eastern Time
X-MS-OLK-WKHRDAYS:MO,TU,WE,TH,FR
BEGIN:VTIMEZONE
X-DEBUG-RAW-Offset:-5
TZID:Eastern Time
X-LIC-LOCATION:Eastern Time
BEGIN:DAYLIGHT
TZOFFSETFROM:-0500
TZOFFSETTO:-0400
TZNAME:Eastern Time
DTSTART:20260308T020000Z
RRULE:FREQ=YEARLY;BYMONTH=3;BYDAY=2SU
END:DAYLIGHT
BEGIN:STANDARD
TZOFFSETFROM:-0400
TZOFFSETTO:-0500
TZNAME:Eastern Time
DTSTART:20261101T020000Z
RRULE:FREQ=YEARLY;BYMONTH=11;BYDAY=1SU
END:STANDARD
END:VTIMEZONE
BEGIN:VEVENT
URL:
ORGANIZER:MAILTO:
DTSTART:20250810T180000Z
DTEND:20250810T210000Z
SUMMARY:A Taste of SoulCollage® - An Introductory Workshop
CATEGORIES:event
DESCRIPTION:A Taste of SoulCollage® - An Introductory Workshop Step into a creative and soulful space where images speak, intuition guides, and inner wisdom emerges. This is the space of SoulCollage® —a simple, creative, and enjoyable process that involves making small collage cards from images that catch your attention and then using the cards for reflection and deepening. SoulCollage® can also be a sacred journey inward. As a spiritual practice, SoulCollage® offers a gentle and intuitive pathway to connect with the deep wisdom of our souls and listen deeply for the nudges of Spirit that invites us to notice, pay attention, and open our awareness. Images have a way of choosing us. When we accept their invitation, much can be revealed to us. Join Spiritual Companion and SoulCollage® Facilitator, Lorie Conway, for this introductory workshop where you will create your own SoulCollage® cards using images from magazines and other sources, then learn how to use your cards as tools for your own reflection, meditation, or spiritual practice. Whether you're seeking insight, want to learn a new practice, or simply yearn for a summer afternoon of mindful creativity in a like-spirited community, this workshop offers a meaningful and joy-filled introduction to a practice that many find grounding and transformative. In our time together, you can expect: · Opening and closing rituals · A brief overview of the SoulCollage® process and philosophy · Hands-on card-making session · Guided journaling and reflection with your cards in sacred community All materials, including images, are provided and no artistic skills are needed. If you can cut and paste, you can do SoulCollage®! DATE: Sunday, August 10, 2025 TIME: 1:00 - 4:00 PM COST: $50, includes all card making materials LOCATION: Well for the Journey - 120 W. Seminary Ave, Lutherville-Timonium, MD 21093 IMPORTANT: You will receive an email from programming@wellforthejourney.org at least 24 hours in advance of the start of your program. If you are unable to find the email, please check your SPAM or JUNK email folders. This email will include details to help you prepare for your program including any pertinent handouts, location information, and the ZOOM link for online programs. Please be sure you have received and read this email a minimum of 24 hours in advance of the start of the program. Thank you! FACILITATOR: Lorie Conway FACILITATOR BIO: Lorie has a passion for deep listening and accompanying others on their spiritual journeys through spiritual direction, small groups, and retreats. It is Lorie’s ongoing journey of transformation and spiritual discovery that fuels her desire to offer spiritual companioning to others. Lorie’s spirituality is rooted in the Christ tradition and is welcoming of the many paths and unique journeys enfolded within Divine Mystery. Lorie received her certificate in spiritual direction from the Kairos School of Spiritual Formation and holds a M.A. in Religion from Lancaster Theological Seminary and a M.A.S. in Behavioral Management & Human Resources from Johns Hopkins University. Lorie is delighted to serve both on the programming staff at the Well and as a program and retreat facilitator. She is also Director of the Shalem Institute’s Transforming Community: Leading Contemplative Spiritual Groups & Retreats program. 
LOCATION:n/a
END:VEVENT
END:VCALENDAR
