BEGIN:VCALENDAR
PRODID:-//Trail Blazer//trailblz.com 1.0//EN
VERSION:2.0
CALSCALE:GREGORIAN
METHOD:PUBLISH
X-WR-TIMEZONE:Eastern Time
X-LIC-LOCATION:Eastern Time
X-MS-OLK-WKHRDAYS:MO,TU,WE,TH,FR
BEGIN:VTIMEZONE
X-DEBUG-RAW-Offset:-5
TZID:Eastern Time
X-LIC-LOCATION:Eastern Time
BEGIN:DAYLIGHT
TZOFFSETFROM:-0500
TZOFFSETTO:-0400
TZNAME:Eastern Time
DTSTART:20260308T020000Z
RRULE:FREQ=YEARLY;BYMONTH=3;BYDAY=2SU
END:DAYLIGHT
BEGIN:STANDARD
TZOFFSETFROM:-0400
TZOFFSETTO:-0500
TZNAME:Eastern Time
DTSTART:20261101T020000Z
RRULE:FREQ=YEARLY;BYMONTH=11;BYDAY=1SU
END:STANDARD
END:VTIMEZONE
BEGIN:VEVENT
URL:
ORGANIZER:MAILTO:
DTSTART:20250906T143000Z
DTEND:20250906T210000Z
SUMMARY:In Search of Sanctuary - A Day Retreat
CATEGORIES:event
DESCRIPTION:In Search of Sanctuary - A Day Retreat “Sanctuary is wherever I find safe space to regain my bearings, reclaim my soul, heal my wounds, and return to the world as a wounded healer. It’s not merely about finding shelter from the storm: it’s about spiritual survival.” - Parker Palmer The word “sanctuary” typically evokes a sense of peace, shelter, and safety. It may remind us of a particular space where we have worshipped, a favorite bird sanctuary, or a place of refuge for those seeking a safe haven. Parker Palmer suggests that sanctuary is any space where we can regain our bearings, reclaim our souls, and heal our wounds. In these troubled and depleting times, sanctuary is vital for our spiritual wellbeing. Sometimes sanctuaries are physical spaces, but sanctuary may also be found in the company of creation, the solace of a friend, the pages of a good book, or the depth of silence. On this day of retreat in the sanctuary of Well for the Journey, we will search for the sanctuaries in our lives, reflect on their meaning and purpose, and consider how we might be sanctuary for others. Our search will be aided by contemplative spiritual practices, reflection, periods of silence, and sacred space for dialogue and sharing. A simple lunch of soup and bread will be provided. Come, step away, and regain your bearings in the sanctuary of the Well. DATE: Saturday, September 6, 2025 TIME: 9:30am - 4:00pm COST: $70, includes lunch LOCATION: Well for the Journey - 120 W. Seminary Ave, Lutherville-Timonium, MD 21093 IMPORTANT: You will receive an email from programming@wellforthejourney.org at least 24 hours in advance of the start of your program. If you are unable to find the email, please check your SPAM or JUNK email folders. This email will include details to help you prepare for your program including any pertinent handouts, location information, and the ZOOM link for online programs. Please be sure you have received and read this email a minimum of 24 hours in advance of the start of the program. Thank you! FACILITATOR: Lorie Conway FACILITATOR BIO: Lorie has a passion for deep listening and accompanying others on their spiritual journeys through spiritual direction, small groups, and retreats. It is Lorie’s ongoing journey of transformation and spiritual discovery that fuels her desire to offer spiritual companioning to others. Lorie’s spirituality is rooted in the Christ tradition and is welcoming of the many paths and unique journeys enfolded within Divine Mystery. Lorie received her certificate in spiritual direction from the Kairos School of Spiritual Formation and holds a M.A. in Religion from Lancaster Theological Seminary and a M.A.S. in Behavioral Management & Human Resources from Johns Hopkins University. Lorie is delighted to serve both on the programming staff at the Well and as a program and retreat facilitator. She is also Director of the Shalem Institute’s Transforming Community: Leading Contemplative Spiritual Groups & Retreats program. 
LOCATION:n/a
END:VEVENT
END:VCALENDAR
