BEGIN:VCALENDAR
PRODID:-//Trail Blazer//trailblz.com 1.0//EN
VERSION:2.0
CALSCALE:GREGORIAN
METHOD:PUBLISH
X-WR-TIMEZONE:Eastern Time
X-LIC-LOCATION:Eastern Time
X-MS-OLK-WKHRDAYS:MO,TU,WE,TH,FR
BEGIN:VTIMEZONE
X-DEBUG-RAW-Offset:-5
TZID:Eastern Time
X-LIC-LOCATION:Eastern Time
BEGIN:DAYLIGHT
TZOFFSETFROM:-0500
TZOFFSETTO:-0400
TZNAME:Eastern Time
DTSTART:20260308T020000Z
RRULE:FREQ=YEARLY;BYMONTH=3;BYDAY=2SU
END:DAYLIGHT
BEGIN:STANDARD
TZOFFSETFROM:-0400
TZOFFSETTO:-0500
TZNAME:Eastern Time
DTSTART:20261101T020000Z
RRULE:FREQ=YEARLY;BYMONTH=11;BYDAY=1SU
END:STANDARD
END:VTIMEZONE
BEGIN:VEVENT
URL:
ORGANIZER:MAILTO:
DTSTART:20251010T143000Z
DTEND:20251010T160000Z
SUMMARY:Coffee & Conversation: Open House at the Well
CATEGORIES:event
DESCRIPTION:Coffee & Conversation at the Well It’s time to gather once again for Coffee & Conversation at Well for the Journey! Whether you are new to the Well, been curious to learn more, a long-time participant, or somewhere in between, we invite you to join us on Friday, October 10th, from 9:30 – 11:00 am for a morning of good company, conversation, and connection. This morning is a wonderful way to learn more about the Well and ask questions about our amazing Fall programming. Some of our program facilitators will be on hand to share specifically about their upcoming offerings. For those of you who are already familiar with the Well, this open house is also the perfect opportunity to bring a friend—or two—and introduce them to the Well, sharing why this special place matters to you and nourishes your soul. We’ll enjoy some coffee, tea, and breakfast treats as we gather in the relaxed, welcoming atmosphere that is the Well. Please RSVP so we can plan appropriately! DATE: Friday, October 10, 2025 TIME: Stop in anytime between 9:30 - 11:00 AM COST: FREE LOCATION: Well for the Journey - 120 W. Seminary Ave, Lutherville-Timonium, MD 21093 
LOCATION:n/a
END:VEVENT
END:VCALENDAR
