BEGIN:VCALENDAR
PRODID:-//Trail Blazer//trailblz.com 1.0//EN
VERSION:2.0
CALSCALE:GREGORIAN
METHOD:PUBLISH
X-WR-TIMEZONE:Eastern Time
X-LIC-LOCATION:Eastern Time
X-MS-OLK-WKHRDAYS:MO,TU,WE,TH,FR
BEGIN:VTIMEZONE
X-DEBUG-RAW-Offset:-5
TZID:Eastern Time
X-LIC-LOCATION:Eastern Time
BEGIN:DAYLIGHT
TZOFFSETFROM:-0500
TZOFFSETTO:-0400
TZNAME:Eastern Time
DTSTART:20260308T020000Z
RRULE:FREQ=YEARLY;BYMONTH=3;BYDAY=2SU
END:DAYLIGHT
BEGIN:STANDARD
TZOFFSETFROM:-0400
TZOFFSETTO:-0500
TZNAME:Eastern Time
DTSTART:20261101T020000Z
RRULE:FREQ=YEARLY;BYMONTH=11;BYDAY=1SU
END:STANDARD
END:VTIMEZONE
BEGIN:VEVENT
URL:
ORGANIZER:MAILTO:
DTSTART:20260225T233000Z
DTEND:20260226T013000Z
SUMMARY:Winter Book Conversation - Cherished Belonging: The Healing Power of Love in Divided Times
CATEGORIES:event
DESCRIPTION:Winter Book Conversation - Cherished Belonging: The Healing Power of Love in Divided Times Fr. Gregory Boyle’s profound new book, Cherished Belonging: The Healing Power of Love in Divided Times, invites us to nurture the connections around us and practice radical kindness in a tribal world that pits “us” against “them.” Join us for this warm winter Zoom gathering where we will reflect on Fr. Boyle’s wisdom and stories with the hope of seeing with new eyes and discovering practical insights for personal and communal wholeness. This inspirational text is an engaging and inspiring read. We invite you to enjoy the book and come to this conversation ready to share your favorite stories and insights, along with your hopes for how you can integrate its wisdom into your daily life. Our time together will be guided by Mabeth Hudson, one of the founders of the Well and a gifted facilitator and spiritual companion. Mabeth will lead us in exploring Fr. Boyle’s central themes —unshakeable goodness, belonging, affectionate awe, and the work of healing and wholeness. We will also enjoy time for personal reflection on how the book’s insights speak to our hearts, with the option to participate in small-group conversation. DATE: Wednesday, February 25, 2026 TIME: 6:30 - 8:30 PM ET COST: $35 LOCATION: ZOOM IMPORTANT: You will receive an email from programming@wellforthejourney.org at least 24 hours in advance of the start of your program. If you are unable to find the email, please check your SPAM or JUNK email folders. This email will include details to help you prepare for your program including any pertinent handouts, location information, and the ZOOM link for online programs. Please be sure you have received and read this email a minimum of 24 hours in advance of the start of the program. Thank you! FACILITATOR: Mabeth Hudson FACILITATOR BIO: Through her leadership and writing, Mabeth encourages people to listen to their inner wisdom, discover meaningful connections, grow through challenges, and better love and be loved in the nitty-gritty of everyday life. Mabeth is passionate about attending to the spiritual dimension of being human in a practical way, as it impacts all of one’s relationships. For over 20 years, she has been developing and leading programs for spiritual wellness, personal growth, and leadership development. Her workshops, classes, retreats, and writing offer accessible tools to integrate into daily life. After practicing law for several years, Mabeth entered a discernment process which led to the co-founding of Well for the Journey in 2002. Learn more about Mabeth at https://www.mabethhudson.com/. 
LOCATION:n/a
END:VEVENT
END:VCALENDAR
